BEGIN:VCALENDAR
VERSION:2.0
METHOD:PUBLISH
BEGIN:VEVENT
UID:WILD_APRICOT_EVENT_4645274_SESSION_1
DTSTART:20220210T230000Z
DTEND:20220211T010000Z
SUMMARY:ACFE Dallas February 2022 Virtual Movie Night
LOCATION:Virtual Webinar
DESCRIPTION:https://dallasacfe.org/event-4645274\n\nThe Dallas Chapter is excited to announce a special event for our chapter members! Join us for a virtual movie night FREE for Dallas Chapter members! Non-members can pay a registration fee and receive complimentary membership for 2022.\n<!---\n--->                          Date :          Thursday\, February 10\, 2022                        Movie:                     Unannounced\n                                 Synopsis:          Unannounced<!---A true story about Frank Abagnale Jr. who\, before his 19th birthday\, successfully conned millions of dollars worth of checks as a Pan Am pilot\, doctor\, and legal prosecutor. An FBI agent makes it his mission to put him behind bars. But Frank not only eludes capture\, he revels in the pursuit. (via IMDb)--->                        Rating:          PG-13                        Prerequisites:          No prerequisites required                        Location:                     Virtual Webinar\n            **Note** Prior to the event\, registrants will receive an email with instructions on how to access the webcast.\n                                 Agenda:          4:45 PM webinar opens\n         5:00 PM Movie presentation\, Part 1\n         5:50 PM Q&A\n         5:55 PM Movie presentation\, Part 2\n         6:30 PM Q&A                        Price:                     FREE - Dallas ACFE Chapter Member\n           $50 - Non-Member / Guest (includes 2022 membership or renewal)\n                                 CPE Offered:          2 hours                                                                                           Register Online                                                                                                                                           Add to Calendar                                                                
DTSTAMP:20260421T095603Z
END:VEVENT
END:VCALENDAR
