BEGIN:VCALENDAR
VERSION:2.0
METHOD:PUBLISH
BEGIN:VEVENT
UID:WILD_APRICOT_EVENT_3270493_SESSION_1
DTSTART:20190503T130000Z
DTEND:20190503T220000Z
SUMMARY:29th Annual DFW Fraud Conference
LOCATION:Plano Event Center\, 2000 E Spring Creek Pkwy\, Plano\, TX 75074
DESCRIPTION:https://dallasacfe.org/event-3270493\n\n               29th ANNUAL DFW FRAUD CONFERENCE\n       MAY 3\, 2019 • PLANO EVENT CENTER\nUp to 8 hours CPE                  Registration and Breakfast 7:00 am • Program 8:00 am - 5:00 pm • Lunch Provided 12:00 pm • Happy Hour 5:00 pm           \nFeaturing:\n     Bruce Dorris \nACFE President & CEO\n    Rusty Hardin\n   Civil & Criminal Trial Attorney\n    Weston Smith\n   Former CFO of HealthSouth\n    CONFERENCE WEBSITE\n \n     Standard Pricing (After April 1st)   Chapter Members: $325 (Login for member pricing)\n Non-Chapter Members: $375\n Government/Educators: $325\nFREE Half-year membership (Fall 2019) included in Non-Chapter Member Rates!\n \n                                                                 Register Online                                                                                                                             Add to Calendar                                                 \n   SPECIAL GROUP RATES AVAILABLE\n     Online Group Registration for 5 or more is available with at discounted rates. Or Click here to access the group registration form and scan/email to registration@dallasacfe.org.\n      \n    \nLet us know if your company wants to sponsor the event!  Contact Scott Ward here or visit our Conference Sponsors page to learn more.\n     \n Thanks to our Corporate Sponsors:\n \n                                                                                                     \n         
DTSTAMP:20260421T084223Z
END:VEVENT
END:VCALENDAR
